BEGIN:VCALENDAR
VERSION:2.0
PRODID:-//Foyer Rural Cépage - ECPv6.15.16//NONSGML v1.0//EN
CALSCALE:GREGORIAN
METHOD:PUBLISH
X-ORIGINAL-URL:https://www.foyer-rural-cepage.com
X-WR-CALDESC:Évènements pour Foyer Rural Cépage
REFRESH-INTERVAL;VALUE=DURATION:PT1H
X-Robots-Tag:noindex
X-PUBLISHED-TTL:PT1H
BEGIN:VTIMEZONE
TZID:Europe/Paris
BEGIN:DAYLIGHT
TZOFFSETFROM:+0100
TZOFFSETTO:+0200
TZNAME:CEST
DTSTART:20240331T010000
END:DAYLIGHT
BEGIN:STANDARD
TZOFFSETFROM:+0200
TZOFFSETTO:+0100
TZNAME:CET
DTSTART:20241027T010000
END:STANDARD
BEGIN:DAYLIGHT
TZOFFSETFROM:+0100
TZOFFSETTO:+0200
TZNAME:CEST
DTSTART:20250330T010000
END:DAYLIGHT
BEGIN:STANDARD
TZOFFSETFROM:+0200
TZOFFSETTO:+0100
TZNAME:CET
DTSTART:20251026T010000
END:STANDARD
BEGIN:DAYLIGHT
TZOFFSETFROM:+0100
TZOFFSETTO:+0200
TZNAME:CEST
DTSTART:20260329T010000
END:DAYLIGHT
BEGIN:STANDARD
TZOFFSETFROM:+0200
TZOFFSETTO:+0100
TZNAME:CET
DTSTART:20261025T010000
END:STANDARD
END:VTIMEZONE
BEGIN:VEVENT
DTSTART;TZID=Europe/Paris:20251216T080000
DTEND;TZID=Europe/Paris:20251216T170000
DTSTAMP:20260424T102002
CREATED:20260127T221035Z
LAST-MODIFIED:20260406T081050Z
UID:10001328-1765872000-1765904400@www.foyer-rural-cepage.com
SUMMARY:Permanence de Rigaud
DESCRIPTION:Vous avez besoin d’aide pour vos démarches administratives ? Nous sommes là pour vous ! \n📋 De l’information à l’accompagnement sur des démarches spécifiques\, nous sommes là pour vous guider et simplifier vos procédures administratives. \n🖥️ Sud Labs\, le projet qui vous familiarise avec le B.A.-BA de l’informatique\, est également à votre disposition. Rejoignez-nous avec la Maison France Services du CEPAGE pour en savoir plus ! \n🗓️ Venez nous rencontrer lors de nos permanences !\nSud Labs et la Maison France Services du CEPAGE vous attendent\, sur rendez-vous\, pour répondre à toutes vos questions. \nPour plus d’informations ou pour prendre rendez-vous\, n’hésitez pas à nous contacter : \n📧 Email : contact@foyer-rural-cepage.com\n📞 Téléphone : 04 93 03 31 15
URL:https://www.foyer-rural-cepage.com/evenement/permanence-de-rigaud/2025-12-16/1/
LOCATION:Mairie de Rigaud\, 1 Place Yvan Feraud\, Rigaud\, 06260\, France
ATTACH;FMTTYPE=image/jpeg:https://www.foyer-rural-cepage.com/wp-content/uploads/2026/01/Miniature-Rigaud.jpg
ORGANIZER;CN="CEPAGE":MAILTO:contact@foyer-rural-cepage.com
END:VEVENT
BEGIN:VEVENT
DTSTART;TZID=Europe/Paris:20251216T140000
DTEND;TZID=Europe/Paris:20251216T160000
DTSTAMP:20260424T102002
CREATED:20260127T221035Z
LAST-MODIFIED:20260406T081050Z
UID:10001314-1765893600-1765900800@www.foyer-rural-cepage.com
SUMMARY:Permanence de Rigaud
DESCRIPTION:Vous avez besoin d’aide pour vos démarches administratives ? Nous sommes là pour vous ! \n📋 De l’information à l’accompagnement sur des démarches spécifiques\, nous sommes là pour vous guider et simplifier vos procédures administratives. \n🖥️ Sud Labs\, le projet qui vous familiarise avec le B.A.-BA de l’informatique\, est également à votre disposition. Rejoignez-nous avec la Maison France Services du CEPAGE pour en savoir plus ! \n🗓️ Venez nous rencontrer lors de nos permanences !\nSud Labs et la Maison France Services du CEPAGE vous attendent\, sur rendez-vous\, pour répondre à toutes vos questions. \nPour plus d’informations ou pour prendre rendez-vous\, n’hésitez pas à nous contacter : \n📧 Email : contact@foyer-rural-cepage.com\n📞 Téléphone : 04 93 03 31 15
URL:https://www.foyer-rural-cepage.com/evenement/permanence-de-rigaud/2025-12-16/2/
LOCATION:Mairie de Rigaud\, 1 Place Yvan Feraud\, Rigaud\, 06260\, France
ATTACH;FMTTYPE=image/jpeg:https://www.foyer-rural-cepage.com/wp-content/uploads/2026/01/Miniature-Rigaud.jpg
ORGANIZER;CN="CEPAGE":MAILTO:contact@foyer-rural-cepage.com
END:VEVENT
END:VCALENDAR